BEGIN:VCALENDAR
VERSION:2.0
PRODID:-//Tukios.com/
BEGIN:VEVENT
UID:7438fa4f-704e-43c9-b77a-aee9e762b5ce@www.eclipsefunerals.com
DTSTAMP:20260420T192806Z
DTSTART:20260424T213000Z
DTEND:20260424T223000Z
SUMMARY:Mass
DESCRIPTION:
URL:https://www.eclipsefunerals.com/obituaries/george-lim
LOCATION:Side Chapel 8900 Reisterstown Rd  Pikesville MD 21208
GEO:39.3911458;-76.7430511
END:VEVENT
END:VCALENDAR