BEGIN:VCALENDAR
VERSION:2.0
PRODID:-//Tukios.com/
BEGIN:VEVENT
UID:818d44f0-a2c6-4d6d-9a24-129af9c7341c@www.eclipsefunerals.com
DTSTAMP:20260420T193328Z
DTSTART:20260424T223000Z
DTEND:20260425T010000Z
SUMMARY:Reception
DESCRIPTION:
URL:https://www.eclipsefunerals.com/obituaries/george-lim
LOCATION:Parlor 8900 Reisterstown Rd  Pikesville MD 21208
GEO:39.3911458;-76.7430511
END:VEVENT
END:VCALENDAR