BEGIN:VCALENDAR
VERSION:2.0
PRODID:-//Tukios.com/
BEGIN:VEVENT
UID:6db26fc8-322f-4cd3-b50f-6bd580fae1fc@www.eclipsefunerals.com
DTSTAMP:20260420T192559Z
DTSTART:20260424T200000Z
DTEND:20260424T213000Z
SUMMARY:Public Viewing
DESCRIPTION:
URL:https://www.eclipsefunerals.com/obituaries/george-lim
LOCATION:Side Chapel 8900 Reisterstown Rd  Pikesville MD 21208
GEO:39.3911458;-76.7430511
END:VEVENT
END:VCALENDAR